BEGIN:VCALENDAR
VERSION:2.0
PRODID:-//eventon.com NONSGML v1.0//EN
BEGIN:VEVENT
UID:69e730dc1a912
DTSTAMP:20260421T041004
DTSTART:20260223T040000Z
DTEND:20260322T035900Z
LOCATION:
SUMMARY:Combat des contes de la Francophonie
DESCRIPTION: &nbsp; Cinq voix. Cinq visions. Une même tradition. Le Combat des contes de la Francophonie est un événement participatif numérique inspiré du Combat des livres. Il met en compétition cinq contes choisis dans le répertoire d’artistes du conte du Québec et de la francophonie canadienne. Chaque conte est défendu par[..]
END:VEVENT
END:VCALENDAR