BEGIN:VCALENDAR
VERSION:2.0
PRODID:-//eventon.com NONSGML v1.0//EN
BEGIN:VEVENT
UID:69e730dc19f17
DTSTAMP:20260421T041004
DTSTART:20241028T000000Z
DTEND:20241028T020000Z
LOCATION:La petite boîte noire 58 rue Meadow
SUMMARY:Spectacle de clôture
DESCRIPTION: avec Jeanne Ferron\,  Catherine Pierloz et Ummée Shah Il est fortement recommandé de réserver vos places pour ce spectacle. Trois artistes d’outre-Atlantique se retrouvent sur scène\,  dans une soirée multicolore et absolument imprévisible. Trois univers qui se croisent\,  se répondent\,  s’entrechoquent. Un spectacle aux allures de carte blanche\,  qui promet[..]
END:VEVENT
END:VCALENDAR