BEGIN:VCALENDAR
VERSION:2.0
PRODID:-//eventon.com NONSGML v1.0//EN
BEGIN:VEVENT
UID:69e730b41bd31
DTSTAMP:20260421T040924
DTSTART:20231014T000000Z
DTEND:20231014T013000Z
LOCATION:Centre d'art de Richmond 1010 rue Principale Nord\,  Richmond
SUMMARY:Fille de laitier
DESCRIPTION: Avec Arleen Thibault\,  accompagnée en musique par Robin Servant Fille\,  filleule et arrière-petite-fille de laitiers\,  Arleen Thibault présente son 2e solo de conte en puisant\,  cette fois\,  dans ses anecdotes familiales et une collecte de souvenirs de livreurs de lait auprès du grand public. Accompagnée sur scène par le musicien[..]
END:VEVENT
END:VCALENDAR